BEGIN:VCALENDAR
VERSION:2.0
CALSCALE:GREGORIAN
PRODID:-//Diputació de Barcelona//DibaCMS//EN
BEGIN:VEVENT
UID:10384
DTSTAMP:20260421T124157
DTSTART:20240219T093000
DTEND:20240219T123000
SUMMARY:Curs bàsic en higiene i seguretat alimentària 
LOCATION:
METHOD:PUBLISH
X-WR-CALNAME:ajuntament@smpalautordera.cat
X-WR-TIMEZONE:Europe/Madrid
DESCRIPTION:L’Ajuntament de Santa Maria de Palautordera ofereix un curs bàsic en higiene i seguretat alimentària, destinat a personal d’establiments de restauració o comerç del municipi.  

URI:https://www.smpalautordera.cat/actualitat/agenda/curs-basic-en-higiene-i-seguretat-alimentaria-.html
CLASS:PUBLIC
END:VEVENT
END:VCALENDAR
