BEGIN:VCALENDAR
VERSION:2.0
CALSCALE:GREGORIAN
PRODID:-//Diputació de Barcelona//DibaCMS//EN
BEGIN:VEVENT
UID:10409
DTSTAMP:20260424T094214
DTSTART:20240217T170000
DTEND:20240217T190000
SUMMARY:2a Trobada amb Acordionistes al Montseny
LOCATION:Plaça Onze de setembre 08460 Santa Maria de Palautordera
METHOD:PUBLISH
X-WR-CALNAME:ajuntament@smpalautordera.cat
X-WR-TIMEZONE:Europe/Madrid
DESCRIPTION:Amb la participació del Grup d'Havaneres Reguissol.

URI:https://www.smpalautordera.cat/actualitat/agenda/2a-trobada-amb-acordionistes-al-montseny.html
CLASS:PUBLIC
END:VEVENT
END:VCALENDAR
