BEGIN:VCALENDAR
VERSION:2.0
CALSCALE:GREGORIAN
PRODID:-//Diputació de Barcelona//DibaCMS//EN
BEGIN:VEVENT
UID:10569
DTSTAMP:20260423T121507
DTSTART:20240629T210000
DTEND:20240629T230000
SUMMARY:Revetlla del Temple, Virgili i Ca l'Abril
LOCATION:Zona esportiva del Temple 
METHOD:PUBLISH
X-WR-CALNAME:ajuntament@smpalautordera.cat
X-WR-TIMEZONE:Europe/Madrid
DESCRIPTION:Sopar i ball de nit amb el duet musical "Sona bé". La venda de tiquets serà el dimarts 25 de juny a la Delegació de barris.

URI:https://www.smpalautordera.cat/actualitat/agenda/10569-revetlla-del-temple-virgili-i-ca-labril.html
CLASS:PUBLIC
END:VEVENT
END:VCALENDAR
