BEGIN:VCALENDAR
VERSION:2.0
CALSCALE:GREGORIAN
PRODID:-//Diputació de Barcelona//DibaCMS//EN
BEGIN:VEVENT
UID:10627
DTSTAMP:20260420T013439
DTSTART:20240802T110000
DTEND:20240802T130000
SUMMARY:De joc en joc!
LOCATION:Pg. del Remei, 33 08460 Santa Maria de Palautordera
METHOD:PUBLISH
X-WR-CALNAME:ajuntament@smpalautordera.cat
X-WR-TIMEZONE:Europe/Madrid
DESCRIPTION:Matinal de jocs a la Biblioteca!

URI:https://www.smpalautordera.cat/actualitat/agenda/10627-de-joc-en-joc.html
CLASS:PUBLIC
END:VEVENT
END:VCALENDAR
