BEGIN:VCALENDAR
VERSION:2.0
CALSCALE:GREGORIAN
PRODID:-//Diputació de Barcelona//DibaCMS//EN
BEGIN:VEVENT
UID:10635
DTSTAMP:20260420T082639
DTSTART:20240720T100000
DTEND:20240721T200000
SUMMARY:27ena Mostra Artesana
LOCATION:Pels carrers del centre de Palau 
METHOD:PUBLISH
X-WR-CALNAME:ajuntament@smpalautordera.cat
X-WR-TIMEZONE:Europe/Madrid
DESCRIPTION:
URI:https://www.smpalautordera.cat/actualitat/agenda/27ena-mostra-artesana.html
CLASS:PUBLIC
END:VEVENT
END:VCALENDAR
