BEGIN:VCALENDAR
VERSION:2.0
CALSCALE:GREGORIAN
PRODID:-//Diputació de Barcelona//DibaCMS//EN
BEGIN:VEVENT
UID:10664
DTSTAMP:20260420T091711
DTSTART:20240919T180000
DTEND:20240919T181000
SUMMARY:Taller familiar: Màscares picassianes
LOCATION:Pg. del Remei, 33 08460 Santa Maria de Palautordera
METHOD:PUBLISH
X-WR-CALNAME:ajuntament@smpalautordera.cat
X-WR-TIMEZONE:Europe/Madrid
DESCRIPTION:Taller on crearem la nostra pròpia màscara picassiana, a càrrec de Catàrtic.

URI:https://www.smpalautordera.cat/actualitat/agenda/taller-familiar-mascares-picassianes.html
CLASS:PUBLIC
END:VEVENT
END:VCALENDAR
