BEGIN:VCALENDAR
VERSION:2.0
CALSCALE:GREGORIAN
PRODID:-//Diputació de Barcelona//DibaCMS//EN
BEGIN:VEVENT
UID:11170
DTSTAMP:20260420T120620
DTSTART:20251011T110000
DTEND:20251011T114500
SUMMARY:La dansa de les paraules
LOCATION:Empordà, 30 08460 Santa Maria de Palautordera
METHOD:PUBLISH
X-WR-CALNAME:ajuntament@smpalautordera.cat
X-WR-TIMEZONE:Europe/Madrid
DESCRIPTION:Hora menuda!

Biblioteca tancada per obres: contes a La Quadra!

URI:https://www.smpalautordera.cat/actualitat/agenda/la-dansa-de-les-paraules.html
CLASS:PUBLIC
END:VEVENT
END:VCALENDAR
