BEGIN:VCALENDAR
VERSION:2.0
CALSCALE:GREGORIAN
PRODID:-//Diputació de Barcelona//DibaCMS//EN
BEGIN:VEVENT
UID:11243
DTSTAMP:20260419T152138
DTSTART:20251201T153000
DTEND:20260102T170000
SUMMARY:Una mirada a la Festa Major 2025
LOCATION:Pg. del Remei, 33 08460 Santa Maria de Palautordera
METHOD:PUBLISH
X-WR-CALNAME:ajuntament@smpalautordera.cat
X-WR-TIMEZONE:Europe/Madrid
DESCRIPTION:Cedida per AFOMONT

URI:https://www.smpalautordera.cat/actualitat/agenda/una-mirada-a-la-festa-major-2025.html
CLASS:PUBLIC
END:VEVENT
END:VCALENDAR
