BEGIN:VCALENDAR
VERSION:2.0
CALSCALE:GREGORIAN
PRODID:-//Diputació de Barcelona//DibaCMS//EN
BEGIN:VEVENT
UID:11300
DTSTAMP:20260426T021422
DTSTART:20260130T193000
DTEND:20260130T213000
SUMMARY:Beethoven, Schumann i Poulenc 
LOCATION:Empordà, 30 08460 Santa Maria de Palautordera
METHOD:PUBLISH
X-WR-CALNAME:ajuntament@smpalautordera.cat
X-WR-TIMEZONE:Europe/Madrid
DESCRIPTION:Entrada: 15 €. Entrades anticipades a www.entrapolis.com.

URI:https://www.smpalautordera.cat/actualitat/agenda/beethoven-schumann-i-poulenc-.html
CLASS:PUBLIC
END:VEVENT
END:VCALENDAR
