BEGIN:VCALENDAR
VERSION:2.0
CALSCALE:GREGORIAN
PRODID:-//Diputació de Barcelona//DibaCMS//EN
BEGIN:VEVENT
UID:11349
DTSTAMP:20260420T103832
DTSTART:20260220T170000
DTEND:20260221T140000
SUMMARY:Donació de sang i plasma
LOCATION:Plaça Onze de setembre 08460 Santa Maria de Palautordera
METHOD:PUBLISH
X-WR-CALNAME:ajuntament@smpalautordera.cat
X-WR-TIMEZONE:Europe/Madrid
DESCRIPTION:Cal portar un document identificatiu i no venir en dejú

URI:https://www.smpalautordera.cat/actualitat/agenda/11349-donacio-de-sang-i-plasma.html
CLASS:PUBLIC
END:VEVENT
END:VCALENDAR
