BEGIN:VCALENDAR
VERSION:2.0
CALSCALE:GREGORIAN
PRODID:-//Diputació de Barcelona//DibaCMS//EN
BEGIN:VEVENT
UID:11370
DTSTAMP:20260422T104856
DTSTART:20260228T103000
DTEND:20260228T133000
SUMMARY:Taller alimentació, salut hormonal i cicle menstrual
LOCATION:Empordà, 30 08460 Santa Maria de Palautordera
METHOD:PUBLISH
X-WR-CALNAME:ajuntament@smpalautordera.cat
X-WR-TIMEZONE:Europe/Madrid
DESCRIPTION:Inscripcions a www.activitatspalau.cat.

URI:https://www.smpalautordera.cat/actualitat/agenda/taller-alimentacio-salut-hormonal-i-cicle-menstrual.html
CLASS:PUBLIC
END:VEVENT
END:VCALENDAR
