BEGIN:VCALENDAR
VERSION:2.0
CALSCALE:GREGORIAN
PRODID:-//Diputació de Barcelona//DibaCMS//EN
BEGIN:VEVENT
UID:11381
DTSTAMP:20260420T135406
DTSTART:20260302T160000
DTEND:20260314T200000
SUMMARY:Fotografiant les cures
LOCATION:Pg. del Remei, 33 08460 Santa Maria de Palautordera
METHOD:PUBLISH
X-WR-CALNAME:ajuntament@smpalautordera.cat
X-WR-TIMEZONE:Europe/Madrid
DESCRIPTION:Exposició de fotografies.

URI:https://www.smpalautordera.cat/actualitat/agenda/fotografiant-les-cures.html
CLASS:PUBLIC
END:VEVENT
END:VCALENDAR
