BEGIN:VCALENDAR
VERSION:2.0
CALSCALE:GREGORIAN
PRODID:-//Diputació de Barcelona//DibaCMS//EN
BEGIN:VEVENT
UID:11468
DTSTAMP:20260424T101247
DTSTART:20260425T170000
DTEND:20260425T200000
SUMMARY:Portes obertes de Modelisme Ferroviari
LOCATION:Local Social Associació de Veïns Pont Trencat, Pont Romà i Moixerigues 
METHOD:PUBLISH
X-WR-CALNAME:ajuntament@smpalautordera.cat
X-WR-TIMEZONE:Europe/Madrid
DESCRIPTION:
URI:https://www.smpalautordera.cat/actualitat/agenda/portes-obertes-de-modelisme-ferroviari.html
CLASS:PUBLIC
END:VEVENT
END:VCALENDAR
