BEGIN:VCALENDAR
VERSION:2.0
CALSCALE:GREGORIAN
PRODID:-//Diputació de Barcelona//DibaCMS//EN
BEGIN:VEVENT
UID:11491
DTSTAMP:20260424T180512
DTSTART:20260507T210000
DTEND:20260507T223000
SUMMARY:Batxillerat? Cicles? Carrera? Feina? Com els podem ajudar des de casa a decidir què volen fer?
LOCATION:Empordà, 30 08460 Santa Maria de Palautordera
METHOD:PUBLISH
X-WR-CALNAME:ajuntament@smpalautordera.cat
X-WR-TIMEZONE:Europe/Madrid
DESCRIPTION:Prendre decisions no és fàcil. Si ets jove, amb tots els dubtes i inseguretats que portes a la motxilla, encara menys. I en aquest món frenètic, volàtil i hiperconnectat podria ben ser un els dotze treballs d’Hèrcules. Però les decisions s’han de prendre, i les famílies no sempre sabem com acompanyar-los. En aquesta taula rodona, diverses persones especialistes miraran de donar-nos eines i, sobretot, confiança.

URI:https://www.smpalautordera.cat/actualitat/agenda/batxillerat-cicles-carrera-feina-com-els-podem-ajudar-des-de-casa-a-decidir-que-volen-fer.html
CLASS:PUBLIC
END:VEVENT
END:VCALENDAR
