BEGIN:VCALENDAR
VERSION:2.0
CALSCALE:GREGORIAN
PRODID:-//Diputació de Barcelona//DibaCMS//EN
BEGIN:VEVENT
UID:11494
DTSTAMP:20260422T174006
DTSTART:20260424T200000
DTEND:20260426T200000
SUMMARY:Sant Jordi negre
LOCATION:
METHOD:PUBLISH
X-WR-CALNAME:ajuntament@smpalautordera.cat
X-WR-TIMEZONE:Europe/Madrid
DESCRIPTION:True ràdio divendres 24 a les 20 h i Nit de difunts dissabte 25 i diumenge 26 a Vila Maria.

URI:https://www.smpalautordera.cat/actualitat/agenda/sant-jordi-negre.html
CLASS:PUBLIC
END:VEVENT
END:VCALENDAR
