BEGIN:VCALENDAR
VERSION:2.0
CALSCALE:GREGORIAN
PRODID:-//Diputació de Barcelona//DibaCMS//EN
BEGIN:VEVENT
UID:11516
DTSTAMP:20260422T172645
DTSTART:20260515T170000
DTEND:20260515T190000
SUMMARY:Escape room “Error 404: estereotip no trobat”
LOCATION:Empordà, 30 08460 Santa Maria de Palautordera
METHOD:PUBLISH
X-WR-CALNAME:ajuntament@smpalautordera.cat
X-WR-TIMEZONE:Europe/Madrid
DESCRIPTION:Adreçat a joves de 1r a 4t d’ESO.

URI:https://www.smpalautordera.cat/actualitat/agenda/escape-room-error-404-estereotip-no-trobat.html
CLASS:PUBLIC
END:VEVENT
END:VCALENDAR
