BEGIN:VCALENDAR
VERSION:2.0
CALSCALE:GREGORIAN
PRODID:-//Diputació de Barcelona//DibaCMS//EN
BEGIN:VEVENT
UID:11517
DTSTAMP:20260422T173832
DTSTART:20260516T113000
DTEND:20260516T133000
SUMMARY:ESPECTACLE DE DANSA. “L'aneguet lleig”
LOCATION:Plaça de la Sardana 
METHOD:PUBLISH
X-WR-CALNAME:ajuntament@smpalautordera.cat
X-WR-TIMEZONE:Europe/Madrid
DESCRIPTION:Adreçat a famílies amb infants a partir de 2 anys. En cas de pluja passa al Centre Cívic.

URI:https://www.smpalautordera.cat/actualitat/agenda/espectacle-de-dansa-laneguet-lleig.html
CLASS:PUBLIC
END:VEVENT
END:VCALENDAR
