BEGIN:VCALENDAR
VERSION:2.0
CALSCALE:GREGORIAN
PRODID:-//Diputació de Barcelona//DibaCMS//EN
BEGIN:VEVENT
UID:11519
DTSTAMP:20260422T172344
DTSTART:20260423T183000
DTEND:20260423T203000
SUMMARY:Presentació del llibre "Amor en blanc i negre"
LOCATION:Carrer Major, 68. 
METHOD:PUBLISH
X-WR-CALNAME:ajuntament@smpalautordera.cat
X-WR-TIMEZONE:Europe/Madrid
DESCRIPTION:
URI:https://www.smpalautordera.cat/actualitat/agenda/presentacio-del-llibre-amor-en-blanc-i-negre.html
CLASS:PUBLIC
END:VEVENT
END:VCALENDAR
