BEGIN:VCALENDAR
VERSION:2.0
CALSCALE:GREGORIAN
PRODID:-//Diputació de Barcelona//DibaCMS//EN
BEGIN:VEVENT
UID:11520
DTSTAMP:20260422T174134
DTSTART:20260423T000000
DTEND:20260423T203000
SUMMARY:Sant Jordi 2026
LOCATION:
METHOD:PUBLISH
X-WR-CALNAME:ajuntament@smpalautordera.cat
X-WR-TIMEZONE:Europe/Madrid
DESCRIPTION:
URI:https://www.smpalautordera.cat/actualitat/agenda/sant-jordi-2026.html
CLASS:PUBLIC
END:VEVENT
END:VCALENDAR
