BEGIN:VCALENDAR
VERSION:2.0
CALSCALE:GREGORIAN
PRODID:-//Diputació de Barcelona//DibaCMS//EN
BEGIN:VEVENT
UID:11521
DTSTAMP:20260423T163508
DTSTART:20260515T170000
DTEND:20260516T140000
SUMMARY:Mercat Solidari de primavera
LOCATION:Plaça Onze de setembre 08460 Santa Maria de Palautordera
METHOD:PUBLISH
X-WR-CALNAME:ajuntament@smpalautordera.cat
X-WR-TIMEZONE:Europe/Madrid
DESCRIPTION:Recollida de materials a l'Envelat de dilluns 11 a dijous 14 de maig de 17 a 19 h. També dimarts i dijous d'11 a 13 h.

URI:https://www.smpalautordera.cat/actualitat/agenda/mercat-solidari-de-primavera.html
CLASS:PUBLIC
END:VEVENT
END:VCALENDAR
