BEGIN:VCALENDAR
VERSION:2.0
CALSCALE:GREGORIAN
PRODID:-//Diputació de Barcelona//DibaCMS//EN
BEGIN:VEVENT
UID:11525
DTSTAMP:20260423T164020
DTSTART:20260509T100000
DTEND:20260509T140000
SUMMARY:La teva cervesa a casa
LOCATION:Empordà, 30 08460 Santa Maria de Palautordera
METHOD:PUBLISH
X-WR-CALNAME:ajuntament@smpalautordera.cat
X-WR-TIMEZONE:Europe/Madrid
DESCRIPTION:
URI:https://www.smpalautordera.cat/actualitat/agenda/la-teva-cervesa-a-casa.html
CLASS:PUBLIC
END:VEVENT
END:VCALENDAR
