BEGIN:VCALENDAR
VERSION:2.0
CALSCALE:GREGORIAN
PRODID:-//Diputació de Barcelona//DibaCMS//EN
BEGIN:VEVENT
UID:11528
DTSTAMP:20260423T163524
DTSTART:20260516T100000
DTEND:20260516T140000
SUMMARY:Antotípia
LOCATION:Empordà, 30 08460 Santa Maria de Palautordera
METHOD:PUBLISH
X-WR-CALNAME:ajuntament@smpalautordera.cat
X-WR-TIMEZONE:Europe/Madrid
DESCRIPTION:
URI:https://www.smpalautordera.cat/actualitat/agenda/antotipia.html
CLASS:PUBLIC
END:VEVENT
END:VCALENDAR
