BEGIN:VCALENDAR
VERSION:2.0
CALSCALE:GREGORIAN
PRODID:-//Diputació de Barcelona//DibaCMS//EN
BEGIN:VEVENT
UID:11534
DTSTAMP:20260422T174105
DTSTART:20260426T110000
DTEND:20260426T140000
SUMMARY:Festa de Primavera 
LOCATION:Barri de la Serra 
METHOD:PUBLISH
X-WR-CALNAME:ajuntament@smpalautordera.cat
X-WR-TIMEZONE:Europe/Madrid
DESCRIPTION:Tallers de llana cardada i espectacle de circ "La Vida Toroidal"

URI:https://www.smpalautordera.cat/actualitat/agenda/festa-de-primavera-.html
CLASS:PUBLIC
END:VEVENT
END:VCALENDAR
