BEGIN:VCALENDAR
VERSION:2.0
CALSCALE:GREGORIAN
PRODID:-//Diputació de Barcelona//DibaCMS//EN
BEGIN:VEVENT
UID:8704
DTSTAMP:20260421T055838
DTSTART:20210319T183000
DTEND:20210319T210000
SUMMARY:Fràgil, de la cia Maria Andrés
LOCATION:
METHOD:PUBLISH
X-WR-CALNAME:ajuntament@smpalautordera.cat
X-WR-TIMEZONE:Europe/Madrid
DESCRIPTION:Fràgil, de la cia Maria Andrés

A les 19.30 h - La Quadra

Espectacle de clown. Apte per a tots els públics. Aforament limitat a 35 persones. Cal reservar entrades via whatsapp al número 674 63 02 83. Entrada 6 €

 

URI:https://www.smpalautordera.cat/actualitat/agenda/fragil-de-la-cia-maria-andres.html
CLASS:PUBLIC
END:VEVENT
END:VCALENDAR
