BEGIN:VCALENDAR
VERSION:2.0
CALSCALE:GREGORIAN
PRODID:-//Diputació de Barcelona//DibaCMS//EN
BEGIN:VEVENT
UID:9486
DTSTAMP:20260421T123735
DTSTART:20220805T193000
DTEND:20220805T210000
SUMMARY:Concert Coral Veus Mixtes del Montseny
LOCATION:Empordà, 30 08460 Santa Maria de Palautordera
METHOD:PUBLISH
X-WR-CALNAME:ajuntament@smpalautordera.cat
X-WR-TIMEZONE:Europe/Madrid
DESCRIPTION:El proper divendres 5 d'agost la Coral Veus Mixtes del Montseny ens ofereix un concert a La Quadra, sala cultural.

URI:https://www.smpalautordera.cat/actualitat/agenda/concert-coral-veus-mixtes-del-montseny.html
CLASS:PUBLIC
END:VEVENT
END:VCALENDAR
