BEGIN:VCALENDAR
VERSION:2.0
CALSCALE:GREGORIAN
PRODID:-//Diputació de Barcelona//DibaCMS//EN
BEGIN:VEVENT
UID:9814
DTSTAMP:20260425T181028
DTSTART:20230328T180000
DTEND:20230328T192000
SUMMARY:Taller per a adults: Fem planter d'hortalisses i de flors
LOCATION:Pg. del Remei, 33 08460 Santa Maria de Palautordera
METHOD:PUBLISH
X-WR-CALNAME:ajuntament@smpalautordera.cat
X-WR-TIMEZONE:Europe/Madrid
DESCRIPTION:Taller a càrrec de la Bàrbara Puigpelat on aprendrem quins materials necessitem i quines són les millors tècniques per fer el nostre propi planter.

URI:https://www.smpalautordera.cat/actualitat/agenda/taller-per-a-adults-fem-planter-dhortalisses-i-de-flors.html
CLASS:PUBLIC
END:VEVENT
END:VCALENDAR
